BEGIN:VCALENDAR
VERSION:2.0
PRODID:-//Alameda Point - ECPv6.15.20//NONSGML v1.0//EN
CALSCALE:GREGORIAN
METHOD:PUBLISH
X-ORIGINAL-URL:https://alamedapoint.org
X-WR-CALDESC:Events for Alameda Point
REFRESH-INTERVAL;VALUE=DURATION:PT1H
X-Robots-Tag:noindex
X-PUBLISHED-TTL:PT1H
BEGIN:VTIMEZONE
TZID:America/Los_Angeles
BEGIN:DAYLIGHT
TZOFFSETFROM:-0800
TZOFFSETTO:-0700
TZNAME:PDT
DTSTART:20250309T100000
END:DAYLIGHT
BEGIN:STANDARD
TZOFFSETFROM:-0700
TZOFFSETTO:-0800
TZNAME:PST
DTSTART:20251102T090000
END:STANDARD
BEGIN:DAYLIGHT
TZOFFSETFROM:-0800
TZOFFSETTO:-0700
TZNAME:PDT
DTSTART:20260308T100000
END:DAYLIGHT
BEGIN:STANDARD
TZOFFSETFROM:-0700
TZOFFSETTO:-0800
TZNAME:PST
DTSTART:20261101T090000
END:STANDARD
BEGIN:DAYLIGHT
TZOFFSETFROM:-0800
TZOFFSETTO:-0700
TZNAME:PDT
DTSTART:20270314T100000
END:DAYLIGHT
BEGIN:STANDARD
TZOFFSETFROM:-0700
TZOFFSETTO:-0800
TZNAME:PST
DTSTART:20271107T090000
END:STANDARD
END:VTIMEZONE
BEGIN:VEVENT
DTSTART;TZID=America/Los_Angeles:20260505T180000
DTEND;TZID=America/Los_Angeles:20260505T210000
DTSTAMP:20260425T095735
CREATED:20260424T151241Z
LAST-MODIFIED:20260424T162305Z
UID:2355-1778004000-1778014800@alamedapoint.org
SUMMARY:Cinco de Mayo - SHL
DESCRIPTION:The Table is the Original Group Chat!\nAll are welcome at our table — bring your hunger and your stories. The music’s warm\, the food is plenty\, and here\, everyone’s family. Post your ideas here. \nMore popular in the United States than in Mexico\, Cinco de Mayo has become associated with the celebration of Mexican-American culture. Wikipedia
URL:https://alamedapoint.org/event/cinco-de-mayo-shl/
LOCATION:SHL Rooftop\, 2350 Saratoga St\, Alameda\, CA\, 94501\, United States
CATEGORIES:Community
ATTACH;FMTTYPE=image/png:https://alamedapoint.org/wp-content/uploads/2026/04/fiesta30.png
END:VEVENT
END:VCALENDAR